BEGIN:VCALENDAR
PRODID:-//AT Content Types//AT Event//EN
VERSION:2.0
METHOD:PUBLISH
BEGIN:VEVENT
DTSTAMP:20260421T033538Z
CREATED:20220615T095358Z
UID:ATEvent-4dd0620c3a8c41ee9e8c4080f8b04343
LAST-MODIFIED:20220615T095405Z
SUMMARY:Ordination sacerdotale d'Yves JEAN-PIERRE
DTSTART:20220626T130000Z
DTEND:20220626T130000Z
LOCATION:Cathédrale Saint-Louis de Blois
CLASS:PUBLIC
END:VEVENT
END:VCALENDAR
